BEGIN:VCALENDAR
VERSION:2.0
PRODID:-//Official Website for Ostrander, Ohio - ECPv6.15.15//NONSGML v1.0//EN
CALSCALE:GREGORIAN
METHOD:PUBLISH
X-WR-CALNAME:Official Website for Ostrander, Ohio
X-ORIGINAL-URL:https://ostranderohio.us
X-WR-CALDESC:Events for Official Website for Ostrander, Ohio
REFRESH-INTERVAL;VALUE=DURATION:PT1H
X-Robots-Tag:noindex
X-PUBLISHED-TTL:PT1H
BEGIN:VTIMEZONE
TZID:America/New_York
BEGIN:DAYLIGHT
TZOFFSETFROM:-0500
TZOFFSETTO:-0400
TZNAME:EDT
DTSTART:20230312T070000
END:DAYLIGHT
BEGIN:STANDARD
TZOFFSETFROM:-0400
TZOFFSETTO:-0500
TZNAME:EST
DTSTART:20231105T060000
END:STANDARD
BEGIN:DAYLIGHT
TZOFFSETFROM:-0500
TZOFFSETTO:-0400
TZNAME:EDT
DTSTART:20240310T070000
END:DAYLIGHT
BEGIN:STANDARD
TZOFFSETFROM:-0400
TZOFFSETTO:-0500
TZNAME:EST
DTSTART:20241103T060000
END:STANDARD
BEGIN:DAYLIGHT
TZOFFSETFROM:-0500
TZOFFSETTO:-0400
TZNAME:EDT
DTSTART:20250309T070000
END:DAYLIGHT
BEGIN:STANDARD
TZOFFSETFROM:-0400
TZOFFSETTO:-0500
TZNAME:EST
DTSTART:20251102T060000
END:STANDARD
BEGIN:DAYLIGHT
TZOFFSETFROM:-0500
TZOFFSETTO:-0400
TZNAME:EDT
DTSTART:20260308T070000
END:DAYLIGHT
BEGIN:STANDARD
TZOFFSETFROM:-0400
TZOFFSETTO:-0500
TZNAME:EST
DTSTART:20261101T060000
END:STANDARD
END:VTIMEZONE
BEGIN:VTIMEZONE
TZID:America/New_York
BEGIN:DAYLIGHT
TZOFFSETFROM:-0500
TZOFFSETTO:-0400
TZNAME:EDT
DTSTART:20230312T070000
END:DAYLIGHT
BEGIN:STANDARD
TZOFFSETFROM:-0400
TZOFFSETTO:-0500
TZNAME:EST
DTSTART:20231105T060000
END:STANDARD
BEGIN:DAYLIGHT
TZOFFSETFROM:-0500
TZOFFSETTO:-0400
TZNAME:EDT
DTSTART:20240310T070000
END:DAYLIGHT
BEGIN:STANDARD
TZOFFSETFROM:-0400
TZOFFSETTO:-0500
TZNAME:EST
DTSTART:20241103T060000
END:STANDARD
BEGIN:DAYLIGHT
TZOFFSETFROM:-0500
TZOFFSETTO:-0400
TZNAME:EDT
DTSTART:20250309T070000
END:DAYLIGHT
BEGIN:STANDARD
TZOFFSETFROM:-0400
TZOFFSETTO:-0500
TZNAME:EST
DTSTART:20251102T060000
END:STANDARD
END:VTIMEZONE
BEGIN:VEVENT
DTSTART;TZID=America/New_York:20250814T180000
DTEND;TZID=America/New_York:20250814T190000
DTSTAMP:20260423T110737
CREATED:20250709T134827Z
LAST-MODIFIED:20250709T134827Z
UID:4622-1755194400-1755198000@ostranderohio.us
SUMMARY:Planning and Zoning Public Hearing
DESCRIPTION:PUBLIC HEARING NOTICE: \nPlanning and Zoning Committee Meeting-August 14\, 2025 \nPOST DATE: 07/09/2025 \nNotice is hereby given that the Ostrander Planning and Zoning committee will conduct a public hearing at the Village Hall at 6:00 pm August 14\, 2025 \nThe following case will be heard: \nA request by Erik and Stephanie Leber for approval of a variance to add a second driveway on the west side of the property and removal of 1-2 trees on the northwest corner of the property located at 7259 Marysville Rd\, Ostrander\, OH 43061 \nBy Order of the Fiscal Officer \nRobin Ruff \nJuly 8\, 2025
URL:https://ostranderohio.us/event/planning-and-zoning-public-hearing/
LOCATION:Village Hall\, 19 S Main St Ostrander\, Ostrander\, OH\, 43061\, United States
END:VEVENT
BEGIN:VEVENT
DTSTART;VALUE=DATE:20250704
DTEND;VALUE=DATE:20250705
DTSTAMP:20260423T110737
CREATED:20250619T193634Z
LAST-MODIFIED:20250630T204217Z
UID:4606-1751587200-1751673599@ostranderohio.us
SUMMARY:4th of July Celebration
DESCRIPTION:July 4th Parade Route-Barricades
URL:https://ostranderohio.us/event/4th-of-july-celebration/
LOCATION:Village of Ostrander\, 19 S Main St Ostrander\, Ostrander\, OH\, 43061\, United States
ORGANIZER;CN="Ostrander Civic Assocation":MAILTO:OstranderCivic@gmail.com
END:VEVENT
BEGIN:VEVENT
DTSTART;TZID=America/New_York:20250419T140000
DTEND;TZID=America/New_York:20250419T160000
DTSTAMP:20260423T110737
CREATED:20250317T003617Z
LAST-MODIFIED:20250317T003617Z
UID:4463-1745071200-1745078400@ostranderohio.us
SUMMARY:EASTER EGG HUNT
DESCRIPTION:
URL:https://ostranderohio.us/event/easter-egg-hunt/
LOCATION:Maugans Communty Park\, 61 N. 3rd Street\, Ostrander\, OH\, 43061\, United States
ORGANIZER;CN="Ostrander Civic Assocation":MAILTO:OstranderCivic@gmail.com
END:VEVENT
BEGIN:VEVENT
DTSTART;TZID=America/New_York:20241214T170000
DTEND;TZID=America/New_York:20241214T190000
DTSTAMP:20260423T110737
CREATED:20241130T124741Z
LAST-MODIFIED:20241207T144648Z
UID:4203-1734195600-1734202800@ostranderohio.us
SUMMARY:Christmas in the Village
DESCRIPTION:Join us for Ostrander’s 4th Annual Christmas in the Village. \n \n  \n 
URL:https://ostranderohio.us/event/christmas-in-the-village/
LOCATION:OH
ORGANIZER;CN="Ostrander Civic Assocation":MAILTO:OstranderCivic@gmail.com
END:VEVENT
BEGIN:VEVENT
DTSTART;TZID=America/New_York:20241031T170000
DTEND;TZID=America/New_York:20241031T200000
DTSTAMP:20260423T110737
CREATED:20241002T150727Z
LAST-MODIFIED:20241002T222918Z
UID:3994-1730394000-1730404800@ostranderohio.us
SUMMARY:"Ghostrander" Halloween 2024
DESCRIPTION:It’s officially October and Halloween is upon us! \nOutline of events \nThursday\, October 31st\, 2024: \n5:00pm – 6:30pm: Open house and costume contest (sponsored by OCA) at Scioto Township Fire Department \n6:00pm – 8:00pm: Trick-or-treating
URL:https://ostranderohio.us/event/ghostrander-halloween-2024/
LOCATION:Scioto Township Fire Department\, 3737 Ostrander Road\, Ostrander\, OH\, 43061\, United States
ORGANIZER;CN="Ostrander Civic Assocation":MAILTO:OstranderCivic@gmail.com
END:VEVENT
BEGIN:VEVENT
DTSTART;TZID=America/New_York:20241017T190000
DTEND;TZID=America/New_York:20241017T200000
DTSTAMP:20260423T110737
CREATED:20241007T135210Z
LAST-MODIFIED:20241007T135543Z
UID:4024-1729191600-1729195200@ostranderohio.us
SUMMARY:Community Town Hall Meetings
DESCRIPTION:
URL:https://ostranderohio.us/event/community-town-hall-meetings/
LOCATION:Scioto Township Fire Department\, 3737 Ostrander Road\, Ostrander\, OH\, 43061\, United States
END:VEVENT
BEGIN:VEVENT
DTSTART;VALUE=DATE:20240912
DTEND;VALUE=DATE:20240916
DTSTAMP:20260423T110737
CREATED:20240607T211311Z
LAST-MODIFIED:20240729T100732Z
UID:3431-1726099200-1726444799@ostranderohio.us
SUMMARY:The Wall That Heals
DESCRIPTION:The Wall That Heals is a 3/4 scale replica of the Vietnam Veterans Memorial in Washington D.C. and a mobile education center that serves to honor and remember our veterans. It will be making its only stop in Ohio here in Delaware County. It will be open 24 hours and is free for all visitors. For more information\, please visit The Wall That Heals Ohio website here. \nWhen: Thursday\, September 12th\, 2024 until Sunday\, September 15th\, 2024 (closes at 2pm) \nWhere: Havener Park\, 4085 Liberty Road\, Delaware\, OH \n 
URL:https://ostranderohio.us/event/the-wall-that-heals/
LOCATION:Havener Park\, 4085 Liberty Road\, Delaware\, OH\, 43015\, United States
END:VEVENT
BEGIN:VEVENT
DTSTART;TZID=America/New_York:20240910T133000
DTEND;TZID=America/New_York:20240910T143000
DTSTAMP:20260423T110737
CREATED:20240819T231042Z
LAST-MODIFIED:20240826T180911Z
UID:3862-1725975000-1725978600@ostranderohio.us
SUMMARY:The Wall That Heals Procession
DESCRIPTION:The Wall That Heals escort procession will be coming through the village of Ostrander on Tuesday\, September 10th\, 2024. It is expected to reach downtown Ostrander around 1:30PM. We would love to see the streets of Ostrander lined with people to honor the procession as it passes through! 🇺🇸 \nWhen: Tuesday\, September 10th\, 2024 \nRegistration starts at 10:00AM. Kickstands up at 1:00PM. \nWhere: Procession begins at the Rural King parking lot\, 1000 N. Main St. Marysville\, OH 43040 \nFood and refreshments are available. \nRoute description: The procession will leave Rural King in Marysville at 1:00PM and travel east on Route 36/Marysville Road\, turning right on to Stover Road then left on Dean/North Street in Ostrander\, and finally left on Main/Ostrander Road to join 36 East heading to Delaware. \nClick here for detailed event itinerary and exact route \nContact: dhyatt@columbus.rr.com \nTo learn more\, please visit The Wall That Heals Ohio website
URL:https://ostranderohio.us/event/the-wall-that-heals-procession/
LOCATION:OH
END:VEVENT
BEGIN:VEVENT
DTSTART;TZID=America/New_York:20240905T180000
DTEND;TZID=America/New_York:20240905T210000
DTSTAMP:20260423T110737
CREATED:20240819T221351Z
LAST-MODIFIED:20240819T221511Z
UID:3854-1725559200-1725570000@ostranderohio.us
SUMMARY:Fall Fireworks FUNdraiser
DESCRIPTION:Save the date for our annual Fall Fireworks FUNdraiser to raise money for our wonderful 4th of July fireworks show. Watch for tickets to go on sale for this event in mid-August. You don’t want to miss out on this fun night at Leeds Farm!! *Only 100 Tickets available. Cost is $100 admits 2* \n  \nPlease note: This event is ADULTS ONLY\, ages 21+. \nWhen: Thursday\, September 5th\, 6pm – 9pm \nWhere: Leeds Farm\, 8738 Marysville Road\, Ostrander\, OH 43061 \nSpecial events include:  \n\nReverse raffle with $3\,000 grand prize\nPig race\nAuction items\nCherry bomb roll\nBingo games\n50/50 drawing\nCraft beer/wine tasting\n\nOstrander Civic Association Facebook page for updates
URL:https://ostranderohio.us/event/fall-fireworks-fundraiser/
LOCATION:Leeds Farm\, 8738 Marysville Road\, Ostrander\, OH\, 43061\, United States
ORGANIZER;CN="Ostrander Civic Assocation":MAILTO:OstranderCivic@gmail.com
END:VEVENT
BEGIN:VEVENT
DTSTART;VALUE=DATE:20240704
DTEND;VALUE=DATE:20240705
DTSTAMP:20260423T110737
CREATED:20240607T173626Z
LAST-MODIFIED:20240607T173626Z
UID:3422-1720051200-1720137599@ostranderohio.us
SUMMARY:"Home of the Brave" 4th of July Celebration
DESCRIPTION:Join us for the annual 4th of July celebration! Special events include a parade\, food trucks\, kiddie tractor pull\, adult softball tournament and a fireworks display at dusk.\n\nCelebration schedule: \n9:00AM: Parade line up. Please click here to sign up to be part of the parade. \n10:00AM: Parade starts! \nALL DAY: Food trucks at the ball fields (Kona Ice\, Smash Shack Burger Company\, Machete Taquería\, Paletero Delights Ice Cream\, Rocky’s Italian Ice) \n12:30PM: Kiddie tractor pull for kids aged 3-12. Register at the basketball courts by the ball fields. \n2:00PM: Adult softball tournament for adults 18+. Click here to sign up on the OYAA facebook page. \nDusk: Firework display! Fireworks will be launched from behind the fire station. Find a spot to watch at Maugans Community Park or the library. \nFor more details\, please visit the Ostrander Civic Assocation Facebook page. \n\nParade route: Line up starts on the corner of Henry and 2nd Street. From there you’ll be directed to your spot.
URL:https://ostranderohio.us/event/home-of-the-brave-4th-of-july-celebration/
LOCATION:OH
END:VEVENT
BEGIN:VEVENT
DTSTART;TZID=America/New_York:20240608T130000
DTEND;TZID=America/New_York:20240608T140000
DTSTAMP:20260423T110737
CREATED:20240523T205001Z
LAST-MODIFIED:20240523T212611Z
UID:3395-1717851600-1717855200@ostranderohio.us
SUMMARY:Ribbon Cutting
DESCRIPTION:You are invited by the Ostrander Village Council to attend the dedication of Maugans Community Park pavilion and playground! \nThe event will be held at the pavilion on Saturday\, June 8th\, 2024. Please join us to celebrate!
URL:https://ostranderohio.us/event/ribbon-cutting/
LOCATION:Maugans Communty Park\, 61 N. 3rd Street\, Ostrander\, OH\, 43061\, United States
END:VEVENT
BEGIN:VEVENT
DTSTART;TZID=America/New_York:20240608T083000
DTEND;TZID=America/New_York:20240608T170000
DTSTAMP:20260423T110737
CREATED:20240528T134305Z
LAST-MODIFIED:20240607T172229Z
UID:3408-1717835400-1717866000@ostranderohio.us
SUMMARY:Ostrander Day
DESCRIPTION:  \n \nYou are invited to the Ostrander Day fundraiser event on Saturday\, June 8th\, 2024! This is a fundraising event to help the Ostrander Youth Athletic Association (OYAA) raise money for field lights and other important facility improvements. \nStarting time is 8:30AM at the Ostrander ball fields. Admission is free! \nThere are activities for the whole family\, including: \n\nSoftball/baseball games\nBounce house\nSilent auctions\nDunk tank\nFood including pulled pork nachos\nSpeed pitch\n50/5o raffle\n\n 
URL:https://ostranderohio.us/event/ostrander-day/
LOCATION:Maugans Communty Park\, 61 N. 3rd Street\, Ostrander\, OH\, 43061\, United States
END:VEVENT
BEGIN:VEVENT
DTSTART;TZID=America/New_York:20240330T140000
DTEND;TZID=America/New_York:20240330T170000
DTSTAMP:20260423T110737
CREATED:20240313T193128Z
LAST-MODIFIED:20240313T212222Z
UID:2988-1711807200-1711818000@ostranderohio.us
SUMMARY:Annual Easter Egg Hunt "Eggstravaganza"
DESCRIPTION:Sponsored by the Ostrander Civic Association. We are “egg”cited to announce our annual Easter Egg Hunt! \n\nFree pictures with Easter Bunny start at 2:00PM.\nEgg hunt begins at 2:30PM.\nThere will be multiple age groups.\nFor children ages 1-10 years-old.\nTHERE WILL BE PRIZES!!!
URL:https://ostranderohio.us/event/annual-easter-egg-hunt-eggstravaganza/
LOCATION:Maugans Communty Park\, 61 N. 3rd Street\, Ostrander\, OH\, 43061\, United States
ORGANIZER;CN="Ostrander Civic Assocation":MAILTO:OstranderCivic@gmail.com
END:VEVENT
END:VCALENDAR