BEGIN:VCALENDAR
VERSION:2.0
PRODID:-//Official Website for Ostrander, Ohio - ECPv6.15.15//NONSGML v1.0//EN
CALSCALE:GREGORIAN
METHOD:PUBLISH
X-ORIGINAL-URL:https://ostranderohio.us
X-WR-CALDESC:Events for Official Website for Ostrander, Ohio
REFRESH-INTERVAL;VALUE=DURATION:PT1H
X-Robots-Tag:noindex
X-PUBLISHED-TTL:PT1H
BEGIN:VTIMEZONE
TZID:America/New_York
BEGIN:DAYLIGHT
TZOFFSETFROM:-0500
TZOFFSETTO:-0400
TZNAME:EDT
DTSTART:20230312T070000
END:DAYLIGHT
BEGIN:STANDARD
TZOFFSETFROM:-0400
TZOFFSETTO:-0500
TZNAME:EST
DTSTART:20231105T060000
END:STANDARD
BEGIN:DAYLIGHT
TZOFFSETFROM:-0500
TZOFFSETTO:-0400
TZNAME:EDT
DTSTART:20240310T070000
END:DAYLIGHT
BEGIN:STANDARD
TZOFFSETFROM:-0400
TZOFFSETTO:-0500
TZNAME:EST
DTSTART:20241103T060000
END:STANDARD
BEGIN:DAYLIGHT
TZOFFSETFROM:-0500
TZOFFSETTO:-0400
TZNAME:EDT
DTSTART:20250309T070000
END:DAYLIGHT
BEGIN:STANDARD
TZOFFSETFROM:-0400
TZOFFSETTO:-0500
TZNAME:EST
DTSTART:20251102T060000
END:STANDARD
END:VTIMEZONE
BEGIN:VTIMEZONE
TZID:America/New_York
BEGIN:DAYLIGHT
TZOFFSETFROM:-0500
TZOFFSETTO:-0400
TZNAME:EDT
DTSTART:20230312T070000
END:DAYLIGHT
BEGIN:STANDARD
TZOFFSETFROM:-0400
TZOFFSETTO:-0500
TZNAME:EST
DTSTART:20231105T060000
END:STANDARD
BEGIN:DAYLIGHT
TZOFFSETFROM:-0500
TZOFFSETTO:-0400
TZNAME:EDT
DTSTART:20240310T070000
END:DAYLIGHT
BEGIN:STANDARD
TZOFFSETFROM:-0400
TZOFFSETTO:-0500
TZNAME:EST
DTSTART:20241103T060000
END:STANDARD
BEGIN:DAYLIGHT
TZOFFSETFROM:-0500
TZOFFSETTO:-0400
TZNAME:EDT
DTSTART:20250309T070000
END:DAYLIGHT
BEGIN:STANDARD
TZOFFSETFROM:-0400
TZOFFSETTO:-0500
TZNAME:EST
DTSTART:20251102T060000
END:STANDARD
END:VTIMEZONE
BEGIN:VEVENT
DTSTART;TZID=America/New_York:20240608T130000
DTEND;TZID=America/New_York:20240608T140000
DTSTAMP:20260423T124434
CREATED:20240523T205001Z
LAST-MODIFIED:20240523T212611Z
UID:3395-1717851600-1717855200@ostranderohio.us
SUMMARY:Ribbon Cutting
DESCRIPTION:You are invited by the Ostrander Village Council to attend the dedication of Maugans Community Park pavilion and playground! \nThe event will be held at the pavilion on Saturday\, June 8th\, 2024. Please join us to celebrate!
URL:https://ostranderohio.us/event/ribbon-cutting/
LOCATION:Maugans Communty Park\, 61 N. 3rd Street\, Ostrander\, OH\, 43061\, United States
END:VEVENT
BEGIN:VEVENT
DTSTART;TZID=America/New_York:20240608T083000
DTEND;TZID=America/New_York:20240608T170000
DTSTAMP:20260423T124434
CREATED:20240528T134305Z
LAST-MODIFIED:20240607T172229Z
UID:3408-1717835400-1717866000@ostranderohio.us
SUMMARY:Ostrander Day
DESCRIPTION:  \n \nYou are invited to the Ostrander Day fundraiser event on Saturday\, June 8th\, 2024! This is a fundraising event to help the Ostrander Youth Athletic Association (OYAA) raise money for field lights and other important facility improvements. \nStarting time is 8:30AM at the Ostrander ball fields. Admission is free! \nThere are activities for the whole family\, including: \n\nSoftball/baseball games\nBounce house\nSilent auctions\nDunk tank\nFood including pulled pork nachos\nSpeed pitch\n50/5o raffle\n\n 
URL:https://ostranderohio.us/event/ostrander-day/
LOCATION:Maugans Communty Park\, 61 N. 3rd Street\, Ostrander\, OH\, 43061\, United States
END:VEVENT
BEGIN:VEVENT
DTSTART;TZID=America/New_York:20240330T140000
DTEND;TZID=America/New_York:20240330T170000
DTSTAMP:20260423T124434
CREATED:20240313T193128Z
LAST-MODIFIED:20240313T212222Z
UID:2988-1711807200-1711818000@ostranderohio.us
SUMMARY:Annual Easter Egg Hunt "Eggstravaganza"
DESCRIPTION:Sponsored by the Ostrander Civic Association. We are “egg”cited to announce our annual Easter Egg Hunt! \n\nFree pictures with Easter Bunny start at 2:00PM.\nEgg hunt begins at 2:30PM.\nThere will be multiple age groups.\nFor children ages 1-10 years-old.\nTHERE WILL BE PRIZES!!!
URL:https://ostranderohio.us/event/annual-easter-egg-hunt-eggstravaganza/
LOCATION:Maugans Communty Park\, 61 N. 3rd Street\, Ostrander\, OH\, 43061\, United States
ORGANIZER;CN="Ostrander Civic Assocation":MAILTO:OstranderCivic@gmail.com
END:VEVENT
END:VCALENDAR